BEGIN:VCALENDAR
VERSION:2.0
PRODID:-//Washington Association of Black Journalists - ECPv6.15.20//NONSGML v1.0//EN
CALSCALE:GREGORIAN
METHOD:PUBLISH
X-WR-CALNAME:Washington Association of Black Journalists
X-ORIGINAL-URL:https://wabjdc.org
X-WR-CALDESC:Events for Washington Association of Black Journalists
REFRESH-INTERVAL;VALUE=DURATION:PT1H
X-Robots-Tag:noindex
X-PUBLISHED-TTL:PT1H
BEGIN:VTIMEZONE
TZID:America/New_York
BEGIN:DAYLIGHT
TZOFFSETFROM:-0500
TZOFFSETTO:-0400
TZNAME:EDT
DTSTART:20250309T070000
END:DAYLIGHT
BEGIN:STANDARD
TZOFFSETFROM:-0400
TZOFFSETTO:-0500
TZNAME:EST
DTSTART:20251102T060000
END:STANDARD
BEGIN:DAYLIGHT
TZOFFSETFROM:-0500
TZOFFSETTO:-0400
TZNAME:EDT
DTSTART:20260308T070000
END:DAYLIGHT
BEGIN:STANDARD
TZOFFSETFROM:-0400
TZOFFSETTO:-0500
TZNAME:EST
DTSTART:20261101T060000
END:STANDARD
BEGIN:DAYLIGHT
TZOFFSETFROM:-0500
TZOFFSETTO:-0400
TZNAME:EDT
DTSTART:20270314T070000
END:DAYLIGHT
BEGIN:STANDARD
TZOFFSETFROM:-0400
TZOFFSETTO:-0500
TZNAME:EST
DTSTART:20271107T060000
END:STANDARD
END:VTIMEZONE
BEGIN:VEVENT
DTSTART;TZID=America/New_York:20260217T180000
DTEND;TZID=America/New_York:20260217T210000
DTSTAMP:20260421T043157
CREATED:20260212T011630Z
LAST-MODIFIED:20260212T011630Z
UID:6533-1771351200-1771362000@wabjdc.org
SUMMARY:A Toast to the Storytellers: Black History Month Mixer
DESCRIPTION:A Black History Month Mixer presented by WABJ and Rémy Martin and curated by MercyC PR\nIn a time when the role of the press feels more urgent than ever\, this toast is a gathering dedicated to the media\, storytellers\, content creators\, and culture-shapers who continue to move the truth forward.\n\nLocation: Realm Rooftop\n899 O St NW\nWashington DC 20001\nDate: Tue\, Feb 17 at 6:00 PM – 9:00 PM\nPresented by the Washington Association of Black Journalists and Rémy Martin\, this Black History Month mixer honors the legacy and impact of Black media professionals—those who write the first draft of our stories and ensure our voices remain visible\, heard\, and documented.Set in an elevated\, intimate atmosphere\, the evening will be a celebratory toast to the work that shapes history in real time.\nGuests will enjoy:\n\nSignature Rémy Martin cocktails\nPassed hors d’oeuvres\nSurprise performances\nA room that honors legacy\, and full of influential storytellers and media professionals
URL:https://wabjdc.org/event/a-toast-to-the-storytellers-black-history-month-mixer/
ATTACH;FMTTYPE=image/png:https://wabjdc.org/wp-content/uploads/2026/02/WABJ-x-Remy-BHM-Instagram-Post-45-61.png
END:VEVENT
END:VCALENDAR