BEGIN:VCALENDAR
VERSION:2.0
PRODID:-//Washington Association of Black Journalists - ECPv6.15.20//NONSGML v1.0//EN
CALSCALE:GREGORIAN
METHOD:PUBLISH
X-WR-CALNAME:Washington Association of Black Journalists
X-ORIGINAL-URL:https://wabjdc.org
X-WR-CALDESC:Events for Washington Association of Black Journalists
REFRESH-INTERVAL;VALUE=DURATION:PT1H
X-Robots-Tag:noindex
X-PUBLISHED-TTL:PT1H
BEGIN:VTIMEZONE
TZID:America/New_York
BEGIN:DAYLIGHT
TZOFFSETFROM:-0500
TZOFFSETTO:-0400
TZNAME:EDT
DTSTART:20240310T070000
END:DAYLIGHT
BEGIN:STANDARD
TZOFFSETFROM:-0400
TZOFFSETTO:-0500
TZNAME:EST
DTSTART:20241103T060000
END:STANDARD
BEGIN:DAYLIGHT
TZOFFSETFROM:-0500
TZOFFSETTO:-0400
TZNAME:EDT
DTSTART:20250309T070000
END:DAYLIGHT
BEGIN:STANDARD
TZOFFSETFROM:-0400
TZOFFSETTO:-0500
TZNAME:EST
DTSTART:20251102T060000
END:STANDARD
BEGIN:DAYLIGHT
TZOFFSETFROM:-0500
TZOFFSETTO:-0400
TZNAME:EDT
DTSTART:20260308T070000
END:DAYLIGHT
BEGIN:STANDARD
TZOFFSETFROM:-0400
TZOFFSETTO:-0500
TZNAME:EST
DTSTART:20261101T060000
END:STANDARD
END:VTIMEZONE
BEGIN:VEVENT
DTSTART;TZID=America/New_York:20251221T170000
DTEND;TZID=America/New_York:20251221T200000
DTSTAMP:20260420T073950
CREATED:20251210T003129Z
LAST-MODIFIED:20251210T003540Z
UID:6492-1766336400-1766347200@wabjdc.org
SUMMARY:Washington Informer's Best of The DMV 2025
DESCRIPTION:Join The Washington Informer to celebrate this year’s Best of The DMV 2025.  Enjoy heavy hors d’oeuvres\, cocktails\, live music\, a community-focused program recognizing standout businesses\, creators\, local organizations\, and the introduction of their newest scholarship\, the James Wright Memorial Scholarship.  Connect with finalists\, supporters\, and the wider Informer community as they close out the year together and uplift their mission. Reserve your ticket today.
URL:https://wabjdc.org/event/join-the-washington-informer-to-celebrate-this-years-best-of-the-dmv-2025/
ATTACH;FMTTYPE=image/jpeg:https://wabjdc.org/wp-content/uploads/2025/12/image_1765049800790_g29at893r-1.jpg
END:VEVENT
END:VCALENDAR