BEGIN:VCALENDAR
VERSION:2.0
PRODID:-//Washington Association of Black Journalists - ECPv6.15.20//NONSGML v1.0//EN
CALSCALE:GREGORIAN
METHOD:PUBLISH
X-WR-CALNAME:Washington Association of Black Journalists
X-ORIGINAL-URL:https://wabjdc.org
X-WR-CALDESC:Events for Washington Association of Black Journalists
REFRESH-INTERVAL;VALUE=DURATION:PT1H
X-Robots-Tag:noindex
X-PUBLISHED-TTL:PT1H
BEGIN:VTIMEZONE
TZID:America/New_York
BEGIN:DAYLIGHT
TZOFFSETFROM:-0500
TZOFFSETTO:-0400
TZNAME:EDT
DTSTART:20240310T070000
END:DAYLIGHT
BEGIN:STANDARD
TZOFFSETFROM:-0400
TZOFFSETTO:-0500
TZNAME:EST
DTSTART:20241103T060000
END:STANDARD
BEGIN:DAYLIGHT
TZOFFSETFROM:-0500
TZOFFSETTO:-0400
TZNAME:EDT
DTSTART:20250309T070000
END:DAYLIGHT
BEGIN:STANDARD
TZOFFSETFROM:-0400
TZOFFSETTO:-0500
TZNAME:EST
DTSTART:20251102T060000
END:STANDARD
BEGIN:DAYLIGHT
TZOFFSETFROM:-0500
TZOFFSETTO:-0400
TZNAME:EDT
DTSTART:20260308T070000
END:DAYLIGHT
BEGIN:STANDARD
TZOFFSETFROM:-0400
TZOFFSETTO:-0500
TZNAME:EST
DTSTART:20261101T060000
END:STANDARD
END:VTIMEZONE
BEGIN:VEVENT
DTSTART;TZID=America/New_York:20250324T190000
DTEND;TZID=America/New_York:20250324T200000
DTSTAMP:20260421T203416
CREATED:20250308T183707Z
LAST-MODIFIED:20250308T183707Z
UID:5976-1742842800-1742846400@wabjdc.org
SUMMARY:Journal-isms Virtual Roundtable: How journalists can survive and thrive on the web
DESCRIPTION:How can journalists survive and thrive in the new environment of social media and social media influencers? \nThat will be the subject of the next Journal-isms Roundtable\, to be held by Zoom at 7 p.m. Eastern on Monday\, March 24. \nOur panelists are: \n\n Meredith D. Clark\, Ph.D\, researcher\, journalist\, teacher\, media consultant and author of “We Tried to Tell Y’all: Black Twitter and the Rise of Digital Counternarratives.”\n\n\n Adriana Lacy\, who has spent more than a decade working in audience engagement\, including working at The New York Times and Axios\, and now heads her own consulting agency to help newsrooms adopt the best practices of creator journalism.\n\n\n Philip Lewis\, deputy editor at HuffPost\, news aggregator and president of the Washington Association of Black Journalists\, who was called “The Anderson Cooper of Black Twitter” last year by Wired magazine.\n\n\n Samantha Ragland\, vice president\, journalism programs\, American Press Institute; journalist\, educator and digital strategist. She is quoted at length in Editor & Publisher\, saying\, “Traditional outlets can learn from influencers’ audience engagement strategies\, while creators can benefit from established journalistic practices.”\n\nRSVP to < jroundtable5 (at) gmail.com > to receive the Zoom. \nZoom information will come after RSVP’s.
URL:https://wabjdc.org/event/journal-isms-virtual-roundtable-how-journalists-can-survive-and-thrive-on-the-web/
ATTACH;FMTTYPE=image/jpeg:https://wabjdc.org/wp-content/uploads/2025/03/20250307-105313-059-Journal-isms-SocialMediaMisinformation-ABC-News.jpg
END:VEVENT
END:VCALENDAR