BEGIN:VCALENDAR
VERSION:2.0
PRODID:-//Washington Association of Black Journalists - ECPv6.15.20//NONSGML v1.0//EN
CALSCALE:GREGORIAN
METHOD:PUBLISH
X-WR-CALNAME:Washington Association of Black Journalists
X-ORIGINAL-URL:https://wabjdc.org
X-WR-CALDESC:Events for Washington Association of Black Journalists
REFRESH-INTERVAL;VALUE=DURATION:PT1H
X-Robots-Tag:noindex
X-PUBLISHED-TTL:PT1H
BEGIN:VTIMEZONE
TZID:America/New_York
BEGIN:DAYLIGHT
TZOFFSETFROM:-0500
TZOFFSETTO:-0400
TZNAME:EDT
DTSTART:20240310T070000
END:DAYLIGHT
BEGIN:STANDARD
TZOFFSETFROM:-0400
TZOFFSETTO:-0500
TZNAME:EST
DTSTART:20241103T060000
END:STANDARD
BEGIN:DAYLIGHT
TZOFFSETFROM:-0500
TZOFFSETTO:-0400
TZNAME:EDT
DTSTART:20250309T070000
END:DAYLIGHT
BEGIN:STANDARD
TZOFFSETFROM:-0400
TZOFFSETTO:-0500
TZNAME:EST
DTSTART:20251102T060000
END:STANDARD
BEGIN:DAYLIGHT
TZOFFSETFROM:-0500
TZOFFSETTO:-0400
TZNAME:EDT
DTSTART:20260308T070000
END:DAYLIGHT
BEGIN:STANDARD
TZOFFSETFROM:-0400
TZOFFSETTO:-0500
TZNAME:EST
DTSTART:20261101T060000
END:STANDARD
END:VTIMEZONE
BEGIN:VEVENT
DTSTART;TZID=America/New_York:20250916T180000
DTEND;TZID=America/New_York:20250916T200000
DTSTAMP:20260420T061317
CREATED:20250605T043500Z
LAST-MODIFIED:20250915T212241Z
UID:6223-1758045600-1758052800@wabjdc.org
SUMMARY:WABJ and Northwestern Mutual's Financial Workshop
DESCRIPTION:WABJ has partnered with Northwestern Mutual to host a financial workshop event for journalists.  This workshop is designed for early-career\, mid-career\, freelance journalists and individuals looking to learn best practices in personal finance in this ever-changing financial landscape.  Northwestern Mutual’s financial advisors will share valuable insight and resources tailored specifically for journalists.  Refreshments will be provided. Sign up here!
URL:https://wabjdc.org/event/wabj-and-northwestern-mutuals-financial-workshop/
LOCATION:Northwestern Mutual DC\, 001 Pennsylvania Ave NW - 10th floor\, Washington\, DC
ATTACH;FMTTYPE=image/jpeg:https://wabjdc.org/wp-content/uploads/2025/09/WABJ-Financial-Management-Workshop-2025.jpg
ORGANIZER;CN="Washington Association of Black Journalists":MAILTO:info@wabj.org
END:VEVENT
END:VCALENDAR