BEGIN:VCALENDAR
VERSION:2.0
PRODID:-//Washington Association of Black Journalists - ECPv6.15.20//NONSGML v1.0//EN
CALSCALE:GREGORIAN
METHOD:PUBLISH
X-WR-CALNAME:Washington Association of Black Journalists
X-ORIGINAL-URL:https://wabjdc.org
X-WR-CALDESC:Events for Washington Association of Black Journalists
REFRESH-INTERVAL;VALUE=DURATION:PT1H
X-Robots-Tag:noindex
X-PUBLISHED-TTL:PT1H
BEGIN:VTIMEZONE
TZID:America/New_York
BEGIN:DAYLIGHT
TZOFFSETFROM:-0500
TZOFFSETTO:-0400
TZNAME:EDT
DTSTART:20240310T070000
END:DAYLIGHT
BEGIN:STANDARD
TZOFFSETFROM:-0400
TZOFFSETTO:-0500
TZNAME:EST
DTSTART:20241103T060000
END:STANDARD
BEGIN:DAYLIGHT
TZOFFSETFROM:-0500
TZOFFSETTO:-0400
TZNAME:EDT
DTSTART:20250309T070000
END:DAYLIGHT
BEGIN:STANDARD
TZOFFSETFROM:-0400
TZOFFSETTO:-0500
TZNAME:EST
DTSTART:20251102T060000
END:STANDARD
BEGIN:DAYLIGHT
TZOFFSETFROM:-0500
TZOFFSETTO:-0400
TZNAME:EDT
DTSTART:20260308T070000
END:DAYLIGHT
BEGIN:STANDARD
TZOFFSETFROM:-0400
TZOFFSETTO:-0500
TZNAME:EST
DTSTART:20261101T060000
END:STANDARD
END:VTIMEZONE
BEGIN:VEVENT
DTSTART;TZID=America/New_York:20251113T180000
DTEND;TZID=America/New_York:20251113T210000
DTSTAMP:20260420T074140
CREATED:20251107T094052Z
LAST-MODIFIED:20251107T094125Z
UID:6450-1763056800-1763067600@wabjdc.org
SUMMARY:Wale & EQT Presents: State of Black Media Panel
DESCRIPTION:WABJ is teaming up with Wale for Gifted Week 2025! We’re hosting a “State of Black Media” panel on Nov 13th at HQ House.
URL:https://wabjdc.org/event/wale-eqt-wabj-state-of-black-media-panel/
ATTACH;FMTTYPE=image/jpeg:https://wabjdc.org/wp-content/uploads/2025/11/576870059_10163415402502460_4909581304872394209_n.jpg
END:VEVENT
END:VCALENDAR